BEGIN:VCALENDAR
VERSION:2.0
PRODID:-//Gowanus Canal Community Advisory Group - ECPv5.16.4//NONSGML v1.0//EN
CALSCALE:GREGORIAN
METHOD:PUBLISH
X-WR-CALNAME:Gowanus Canal Community Advisory Group
X-ORIGINAL-URL:https://gowanuscag.org
X-WR-CALDESC:Events for Gowanus Canal Community Advisory Group
BEGIN:VTIMEZONE
TZID:America/New_York
BEGIN:DAYLIGHT
TZOFFSETFROM:-0500
TZOFFSETTO:-0400
TZNAME:EDT
DTSTART:20200308T070000
END:DAYLIGHT
BEGIN:STANDARD
TZOFFSETFROM:-0400
TZOFFSETTO:-0500
TZNAME:EST
DTSTART:20201101T060000
END:STANDARD
END:VTIMEZONE
BEGIN:VEVENT
DTSTART;TZID=America/New_York:20201215T100000
DTEND;TZID=America/New_York:20201215T110000
DTSTAMP:20260421T202851
CREATED:20201205T032347Z
LAST-MODIFIED:20201205T032347Z
UID:6116-1608026400-1608030000@gowanuscag.org
SUMMARY:Gowanus Canal CAG Admin Committee Meeting
DESCRIPTION:The Gowanus Canal Community Advisory Group’s Admin Committee will meet on Tuesday\, December 15th\, at 10:00 a.m.\, via Zoom conference. \nJoin Zoom Meeting: https://zoom.us/j/94766146005?pwd=MmxFOWpmTWdZK1RNN0hYUTJIeVN1dz09\nMeeting ID: 947 6614 6005\nPasscode: 955154 \nAgenda: \n• Membership discussion\n• Setting up new applicant interviews\n• Review of one new membership application \nAll Gowanus Canal CAG meetings are open to the public.
URL:https://gowanuscag.org/index.php/event/gowanus-canal-cag-admin-committee-meeting/
LOCATION:Zoom Conference\, NY\, United States
CATEGORIES:CAG Committee Meeting
ORGANIZER;CN="Rita%20Miller":MAILTO:ritamiller103@yahoo.com
END:VEVENT
END:VCALENDAR