BEGIN:VCALENDAR
VERSION:2.0
PRODID:-//Gowanus Canal Community Advisory Group - ECPv5.16.4//NONSGML v1.0//EN
CALSCALE:GREGORIAN
METHOD:PUBLISH
X-WR-CALNAME:Gowanus Canal Community Advisory Group
X-ORIGINAL-URL:https://gowanuscag.org
X-WR-CALDESC:Events for Gowanus Canal Community Advisory Group
BEGIN:VTIMEZONE
TZID:America/New_York
BEGIN:DAYLIGHT
TZOFFSETFROM:-0500
TZOFFSETTO:-0400
TZNAME:EDT
DTSTART:20210314T070000
END:DAYLIGHT
BEGIN:STANDARD
TZOFFSETFROM:-0400
TZOFFSETTO:-0500
TZNAME:EST
DTSTART:20211107T060000
END:STANDARD
END:VTIMEZONE
BEGIN:VEVENT
DTSTART;TZID=America/New_York:20210406T183000
DTEND;TZID=America/New_York:20210406T193000
DTSTAMP:20260423T060657
CREATED:20210405T200502Z
LAST-MODIFIED:20210405T200806Z
UID:6677-1617733800-1617737400@gowanuscag.org
SUMMARY:Gowanus Canal CAG Land Use Committee Meeting
DESCRIPTION:The Gowanus Canal Community Advisory Group’s Land Use Committee will conduct its April 6\, 2021 meeting via Zoom conference. \nJoin Zoom Meeting: https://us02web.zoom.us/j/89550255124?pwd=UkJzbDI2VVlHa3BodlVPZHN2dVZEUT09 \nMeeting ID: 895 5025 5124Password: 459738 \nDial by your location:+1 646 558 8656 US (New York) \nAgenda: \n\nEastern Effects\n\nUpdate from Dan Wiley (Office of Rep. Nydia Velázquez)\nDiscussion of draft resolution/letter\n\n\nPast Resolutions\n\nReview past resolutions and status\n\n\nMission Statement\n\nPrevious draft\nNotes from last meeting\nDiscussion on next steps?\n\n\nBrownfields\n\nDiscuss suggestion of asking EPA\, DEC and OER to come present on the overall approach to brownfields in Gowanus\n\nWhat are our questions\nWhat are the goals and objectives\n\n\n\n\n\nAll Gowanus CAG meetings are open to the public.
URL:https://gowanuscag.org/index.php/event/gowanus-canal-cag-land-use-committee-meeting-16/
LOCATION:Zoom Conference\, NY\, United States
CATEGORIES:CAG Committee Meeting
ORGANIZER;CN="Andrea%20Parker":MAILTO:andrea@gowanuscanalconservancy.org
END:VEVENT
END:VCALENDAR