BEGIN:VCALENDAR
VERSION:2.0
PRODID:-//Gowanus Canal Community Advisory Group - ECPv5.16.4//NONSGML v1.0//EN
CALSCALE:GREGORIAN
METHOD:PUBLISH
X-WR-CALNAME:Gowanus Canal Community Advisory Group
X-ORIGINAL-URL:https://gowanuscag.org
X-WR-CALDESC:Events for Gowanus Canal Community Advisory Group
BEGIN:VTIMEZONE
TZID:America/New_York
BEGIN:DAYLIGHT
TZOFFSETFROM:-0500
TZOFFSETTO:-0400
TZNAME:EDT
DTSTART:20250309T070000
END:DAYLIGHT
BEGIN:STANDARD
TZOFFSETFROM:-0400
TZOFFSETTO:-0500
TZNAME:EST
DTSTART:20251102T060000
END:STANDARD
END:VTIMEZONE
BEGIN:VEVENT
DTSTART;TZID=America/New_York:20250414T190000
DTEND;TZID=America/New_York:20250414T200000
DTSTAMP:20260423T032621
CREATED:20250407T223325Z
LAST-MODIFIED:20250407T223325Z
UID:13893-1744657200-1744660800@gowanuscag.org
SUMMARY:Gowanus Canal CAG Outreach Committee Meeting
DESCRIPTION:The Gowanus Canal Community Advisory Group’s Outreach Committee monthly meeting is held on the second Monday of the month at 7:00 p.m.\, via Google Meet. This month’s meeting will focus on an upcoming display of Gowanus artifacts dredged from the Canal. Please join us! \nTo join the video meeting\, click this link:\nhttps://meet.google.com/gwp-hbsj-epj \nOtherwise\, to join by phone\,\ndial +1 570-818-2224\nand enter this PIN: 757 527 401# \nTo view more phone numbers\, click this link: https://tel.meet/gwp-hbsj-epj?hs=5
URL:https://gowanuscag.org/index.php/event/gowanus-canal-cag-outreach-committee-meeting-32/
LOCATION:Google Meet
ORGANIZER;CN="Outreach%20Committee":MAILTO:gowanuscag@gmail.com
END:VEVENT
END:VCALENDAR