BEGIN:VCALENDAR
VERSION:2.0
PRODID:-//Gowanus Canal Community Advisory Group - ECPv5.16.4//NONSGML v1.0//EN
CALSCALE:GREGORIAN
METHOD:PUBLISH
X-WR-CALNAME:Gowanus Canal Community Advisory Group
X-ORIGINAL-URL:https://gowanuscag.org
X-WR-CALDESC:Events for Gowanus Canal Community Advisory Group
BEGIN:VTIMEZONE
TZID:America/New_York
BEGIN:DAYLIGHT
TZOFFSETFROM:-0500
TZOFFSETTO:-0400
TZNAME:EDT
DTSTART:20230312T070000
END:DAYLIGHT
BEGIN:STANDARD
TZOFFSETFROM:-0400
TZOFFSETTO:-0500
TZNAME:EST
DTSTART:20231105T060000
END:STANDARD
END:VTIMEZONE
BEGIN:VEVENT
DTSTART;TZID=America/New_York:20230206T190000
DTEND;TZID=America/New_York:20230206T200000
DTSTAMP:20260419T195311
CREATED:20230103T020456Z
LAST-MODIFIED:20230103T020456Z
UID:8693-1675710000-1675713600@gowanuscag.org
SUMMARY:Gowanus Canal CAG Water Quality/Technical Committee Meeting
DESCRIPTION:The Gowanus Canal Community Advisory Group’s Water Quality/Technical Committee will hold its February meeting on Monday\, February 6th\, from 7:00 p.m. to 8:00 p.m.\, via Zoom. \nJoin Zoom meeting: https://us06web.zoom.us/j/82834173703?pwd=aXFwUTBqRGZtSEhPa0xMcHF3YnovQT09 \nMeeting ID: 828 3417 3703 \nPasscode: 259824 \nTo dial in by phone: +1 646 558 8656 \nAll Gowanus CAG meetings are open to the public.
URL:https://gowanuscag.org/index.php/event/gowanus-canal-cag-water-quality-technical-committee-meeting-34/
LOCATION:Zoom Conference\, NY\, United States
CATEGORIES:CAG Committee Meeting
ORGANIZER;CN="Marlene%20Donnelly":MAILTO:studio460@msn.com
END:VEVENT
END:VCALENDAR