BEGIN:VCALENDAR
VERSION:2.0
PRODID:-//Gowanus Canal Community Advisory Group - ECPv5.16.4//NONSGML v1.0//EN
CALSCALE:GREGORIAN
METHOD:PUBLISH
X-WR-CALNAME:Gowanus Canal Community Advisory Group
X-ORIGINAL-URL:https://gowanuscag.org
X-WR-CALDESC:Events for Gowanus Canal Community Advisory Group
BEGIN:VTIMEZONE
TZID:America/New_York
BEGIN:DAYLIGHT
TZOFFSETFROM:-0500
TZOFFSETTO:-0400
TZNAME:EDT
DTSTART:20210314T070000
END:DAYLIGHT
BEGIN:STANDARD
TZOFFSETFROM:-0400
TZOFFSETTO:-0500
TZNAME:EST
DTSTART:20211107T060000
END:STANDARD
END:VTIMEZONE
BEGIN:VEVENT
DTSTART;TZID=America/New_York:20210223T183000
DTEND;TZID=America/New_York:20210223T203000
DTSTAMP:20260425T075321
CREATED:20210118T180909Z
LAST-MODIFIED:20210219T181838Z
UID:6308-1614105000-1614112200@gowanuscag.org
SUMMARY:Gowanus Canal Community Advisory Group Annual Organizational Meeting
DESCRIPTION:The Gowanus Canal Community Advisory Group’s February Meeting will be our annual retreat devoted to internal organizational issues\, and will not feature an update from the EPA or other public issues. \nPlease join us again on Tuesday\, March 23rd for our next General Meeting.
URL:https://gowanuscag.org/index.php/event/gowanus-canal-community-advisory-group-general-meeting-12/
LOCATION:Zoom Conference\, NY\, United States
CATEGORIES:CAG General Meeting
ORGANIZER;CN="Doug%20Sarno":MAILTO:doug@forumfg.com
END:VEVENT
END:VCALENDAR