BEGIN:VCALENDAR
VERSION:2.0
PRODID:-//Gowanus Canal Community Advisory Group - ECPv5.16.4//NONSGML v1.0//EN
CALSCALE:GREGORIAN
METHOD:PUBLISH
X-WR-CALNAME:Gowanus Canal Community Advisory Group
X-ORIGINAL-URL:https://gowanuscag.org
X-WR-CALDESC:Events for Gowanus Canal Community Advisory Group
BEGIN:VTIMEZONE
TZID:America/New_York
BEGIN:DAYLIGHT
TZOFFSETFROM:-0500
TZOFFSETTO:-0400
TZNAME:EDT
DTSTART:20220313T070000
END:DAYLIGHT
BEGIN:STANDARD
TZOFFSETFROM:-0400
TZOFFSETTO:-0500
TZNAME:EST
DTSTART:20221106T060000
END:STANDARD
END:VTIMEZONE
BEGIN:VEVENT
DTSTART;TZID=America/New_York:20221025T183000
DTEND;TZID=America/New_York:20221025T203000
DTSTAMP:20260424T132604
CREATED:20220904T030658Z
LAST-MODIFIED:20221018T195007Z
UID:8048-1666722600-1666729800@gowanuscag.org
SUMMARY:Gowanus Canal Community Advisory Group General Meeting
DESCRIPTION:Please join us for our October 2022 General Meeting\, on Tuesday\, October 25\, from 6:30 p.m. to 8:30 p.m.\, conducted via Zoom video conference.\n  \nTo attend the meeting\, it’s necessary that you register in advance\, or when joining the meeting\, here:\n  \nhttps://us06web.zoom.us/meeting/register/tZYtcu-srT0vGNErFxNDY9x9Vr1Dk7Ict7Rn\n  \nDRAFT AGENDA (all times are approximate)\n  \n6:30 – 6:45 p.m.: Welcome\, CAG Member and Audience Introductions\n  \n6:45 – 7:00 p.m.: USEPA Updates and CAG Q&A\n  \n7:00 – 8:00 p.m.: Natural Resources Trustee Updates and CAG Q&A\n  \n8:00 – 8:30 p.m.: CAG Business and Committee Updates\n  \n\n\n 	Archaeology and Historic Preservation Committee\n 	Land Use Committee\n 	Outreach Committee\n 	Water Quality/Technical Committee\n\n  \n8:30 p.m.: Adjourn\n  \nAll Gowanus CAG meetings are open to the public unless otherwise noted. Guests are welcome to comment and ask questions using the Zoom chat function. The next CAG General Meeting will be November 29\, 2022 at 6:30 p.m.\, via Zoom.
URL:https://gowanuscag.org/index.php/event/gowanus-canal-community-advisory-group-general-meeting-29/
LOCATION:Zoom Conference\, NY\, United States
CATEGORIES:CAG General Meeting
ORGANIZER;CN="Doug%20Sarno":MAILTO:doug@forumfg.com
END:VEVENT
END:VCALENDAR