BEGIN:VCALENDAR
VERSION:2.0
PRODID:-//Gowanus Canal Community Advisory Group - ECPv5.16.4//NONSGML v1.0//EN
CALSCALE:GREGORIAN
METHOD:PUBLISH
X-WR-CALNAME:Gowanus Canal Community Advisory Group
X-ORIGINAL-URL:https://gowanuscag.org
X-WR-CALDESC:Events for Gowanus Canal Community Advisory Group
BEGIN:VTIMEZONE
TZID:America/New_York
BEGIN:DAYLIGHT
TZOFFSETFROM:-0500
TZOFFSETTO:-0400
TZNAME:EDT
DTSTART:20230312T070000
END:DAYLIGHT
BEGIN:STANDARD
TZOFFSETFROM:-0400
TZOFFSETTO:-0500
TZNAME:EST
DTSTART:20231105T060000
END:STANDARD
END:VTIMEZONE
BEGIN:VEVENT
DTSTART;TZID=America/New_York:20230523T183000
DTEND;TZID=America/New_York:20230523T203000
DTSTAMP:20260422T043804
CREATED:20230513T201305Z
LAST-MODIFIED:20230521T214011Z
UID:9502-1684866600-1684873800@gowanuscag.org
SUMMARY:Gowanus Canal Community Advisory Group General Meeting
DESCRIPTION:Please join us for our May 2023 General Meeting\, on Tuesday\, May 23\, from 6:30 p.m. to 8:30 p.m.\, conducted via Zoom video conference. \n\nTo attend the meeting\, it’s necessary that you register in advance\, or when joining the meeting\, here: \n\n\n\nhttps://us06web.zoom.us/meeting/register/tZ0tdeyhpz0jGtxwQF_n79qm6_TsSpumDns4 \nDRAFT AGENDA (all times are approximate) \n6:30 – 6:45 p.m.: Welcome and CAG Member Introductions \n6:45 – 8:155 p.m.: Conversation with US EPA Regional Administrator Lisa Garcia\, CAG Q&A \n\n\n\n\n\n\n\n\n\n8:15 – 8:30 p.m.: CAG Business and Committee Updates \n\n\n\n\nAdministrative Committee\nArchaeology and Historic Preservation Committee\nLand Use Committee\nOutreach Committee\nWater Quality/Technical Committee\n\n\n\n\n8:30 PM: Adjourn \n\n\n\nGuests are welcome to comment and ask questions using the chat function. The next CAG General Meeting is tentatively scheduled for Tuesday\, June 27\, at 6:30 PM.
URL:https://gowanuscag.org/index.php/event/gowanus-canal-community-advisory-group-general-meeting-35/
LOCATION:Zoom Conference\, NY\, United States
CATEGORIES:CAG General Meeting
ORGANIZER;CN="Doug%20Sarno":MAILTO:doug@forumfg.com
END:VEVENT
END:VCALENDAR