BEGIN:VCALENDAR
VERSION:2.0
PRODID:-//Gowanus Canal Community Advisory Group - ECPv5.16.4//NONSGML v1.0//EN
CALSCALE:GREGORIAN
METHOD:PUBLISH
X-WR-CALNAME:Gowanus Canal Community Advisory Group
X-ORIGINAL-URL:https://gowanuscag.org
X-WR-CALDESC:Events for Gowanus Canal Community Advisory Group
BEGIN:VTIMEZONE
TZID:America/New_York
BEGIN:DAYLIGHT
TZOFFSETFROM:-0500
TZOFFSETTO:-0400
TZNAME:EDT
DTSTART:20230312T070000
END:DAYLIGHT
BEGIN:STANDARD
TZOFFSETFROM:-0400
TZOFFSETTO:-0500
TZNAME:EST
DTSTART:20231105T060000
END:STANDARD
END:VTIMEZONE
BEGIN:VEVENT
DTSTART;TZID=America/New_York:20231024T183000
DTEND;TZID=America/New_York:20231024T203000
DTSTAMP:20260420T062835
CREATED:20230613T173105Z
LAST-MODIFIED:20231023T185926Z
UID:9703-1698172200-1698179400@gowanuscag.org
SUMMARY:Gowanus Canal Community Advisory Group General Meeting
DESCRIPTION:Please join us for our October 2023 General Meeting\, on Tuesday\, October 24\, from 6:30 p.m. to 8:30 p.m.\, conducted via Zoom video conference. \nIn order to join the meeting\, you must pre-register\, here: https://us06web.zoom.us/meeting/register/tZYkcOCgqjkoH90-v5NGc7ArmMMT5UIbzsLg \n\nDRAFT AGENDA (all times are approximate) \n6:30 – 6:45 p.m.: Welcome and CAG Member Introductions \n6:45 – 7:15 p.m.: EPA Updates and CAG Q&A \n7:15 – 7:45 p.m.: Land Use Committee Proposed Resolution on Former Citizens MGP Works Site \n7:45 – 8:00 p.m.: Public Comment/Questions \n\n\n\n\n\n\n\n\n \n8:00 – 8:30 p.m.: CAG Business and Committee Updates \n\n\n \n\nAdministrative Committee\nArchaeology and Historic Preservation Committee\nLand Use Committee\nOutreach Committee\nWater Quality/Technical Committee\n\n\n\n \n8:30 p.m.: Adjourn \n8:35 p.m.: Prospective Member Interviews \n\n\n \nGuests are welcome to comment and ask questions using the chat function. The subsequent CAG General Meeting is tentatively scheduled for Tuesday\, November 28\, at 6:30 PM.
URL:https://gowanuscag.org/index.php/event/gowanus-canal-community-advisory-group-general-meeting-39/
LOCATION:Zoom Conference\, NY\, United States
CATEGORIES:CAG General Meeting
ORGANIZER;CN="Doug%20Sarno":MAILTO:doug@forumfg.com
END:VEVENT
END:VCALENDAR