BEGIN:VCALENDAR
VERSION:2.0
PRODID:-//Gowanus Canal Community Advisory Group - ECPv5.16.4//NONSGML v1.0//EN
CALSCALE:GREGORIAN
METHOD:PUBLISH
X-WR-CALNAME:Gowanus Canal Community Advisory Group
X-ORIGINAL-URL:https://gowanuscag.org
X-WR-CALDESC:Events for Gowanus Canal Community Advisory Group
BEGIN:VTIMEZONE
TZID:America/New_York
BEGIN:DAYLIGHT
TZOFFSETFROM:-0500
TZOFFSETTO:-0400
TZNAME:EDT
DTSTART:20230312T070000
END:DAYLIGHT
BEGIN:STANDARD
TZOFFSETFROM:-0400
TZOFFSETTO:-0500
TZNAME:EST
DTSTART:20231105T060000
END:STANDARD
END:VTIMEZONE
BEGIN:VEVENT
DTSTART;TZID=America/New_York:20230328T183000
DTEND;TZID=America/New_York:20230328T203000
DTSTAMP:20260424T201453
CREATED:20230111T184804Z
LAST-MODIFIED:20230323T165654Z
UID:8796-1680028200-1680035400@gowanuscag.org
SUMMARY:Gowanus Canal Community Advisory Group General Meeting
DESCRIPTION:Please join us for our March 2023 General Meeting\, on Tuesday\, March 28\, from 6:30 p.m. to 8:30 p.m.\, conducted via Zoom video conference. \n\n\n \nTo attend the meeting\, it’s necessary that you register in advance\, or when joining the meeting\, here: \n\n\n \nhttps://us06web.zoom.us/meeting/register/tZUodeqqqDstEtEQgewkNAbypZWURttoyVTR \n\n\n \nDRAFT AGENDA (all times are approximate) \n\n\n \n6:30 – 6:45 p.m.: Welcome and CAG Member Introductions \n\n\n \n6:45 – 7:30 p.m.: USEPA Updates and CAG Q&A \n\n\n \n7:30 – 8:00 p.m.: Water Quality/Technical Committee Proposed Letter to US Army Corps of Engineers – CAG Discussion and Action \n8:00 – 8:30 p.m.: CAG Business and Committee Updates \n\n\n \n\nAdministrative Committee\nArchaeology and Historic Preservation Committee\nLand Use Committee\nOutreach Committee\nWater Quality/Technical Committee\n\n\n\n \n8:30 p.m.: Adjourn \n\n\n \nAll Gowanus CAG meetings are open to the public unless otherwise noted. Guests are welcome to comment and ask questions using the Zoom chat function. The next CAG General Meeting will be April 25\, 2023 at 6:30 p.m.\, via Zoom.
URL:https://gowanuscag.org/index.php/event/gowanus-canal-community-advisory-group-general-meeting-33/
LOCATION:Zoom Conference\, NY\, United States
CATEGORIES:CAG General Meeting
ORGANIZER;CN="Doug%20Sarno":MAILTO:doug@forumfg.com
END:VEVENT
END:VCALENDAR