BEGIN:VCALENDAR
VERSION:2.0
PRODID:-//Gowanus Canal Community Advisory Group - ECPv5.16.4//NONSGML v1.0//EN
CALSCALE:GREGORIAN
METHOD:PUBLISH
X-WR-CALNAME:Gowanus Canal Community Advisory Group
X-ORIGINAL-URL:https://gowanuscag.org
X-WR-CALDESC:Events for Gowanus Canal Community Advisory Group
BEGIN:VTIMEZONE
TZID:America/New_York
BEGIN:DAYLIGHT
TZOFFSETFROM:-0500
TZOFFSETTO:-0400
TZNAME:EDT
DTSTART:20240310T070000
END:DAYLIGHT
BEGIN:STANDARD
TZOFFSETFROM:-0400
TZOFFSETTO:-0500
TZNAME:EST
DTSTART:20241103T060000
END:STANDARD
END:VTIMEZONE
BEGIN:VEVENT
DTSTART;TZID=America/New_York:20240227T183000
DTEND;TZID=America/New_York:20240227T203000
DTSTAMP:20260423T100707
CREATED:20240127T205806Z
LAST-MODIFIED:20240219T201353Z
UID:11050-1709058600-1709065800@gowanuscag.org
SUMMARY:Gowanus Canal Community Advisory Group Internal Meeting (CAG Members Only)
DESCRIPTION:The Gowanus Canal Community Advisory Group will hold an internal meeting on Tuesday\, February 27\, from 6:30 p.m. to 8:30 p.m.\, in lieu of our monthly general meeting. This meeting will be for CAG members only\, and will be conducted via Zoom video conference. \nPlease join us on March 26 when we’ll resume our monthly public meetings. \nDRAFT AGENDA (all times are approximate) \nMeeting #1 \n6:30 pm: ​Introductions \n6:40 pm: ​Background from EPA \n6:50 pm: Working Group – Presentation of proposed Charter revisions \n7:00 pm​: Discussion of proposed revisions and any friendly amendments \n7:50 pm​: Clarify outstanding objections and proposed friendly amendments \n8:00 pm​: Adjourn (Stay on Zoom) \nMeeting #2  \n8:02 pm:​ Establish Quorum \nVote on any friendly amendments \nVote on Charter revisions \n​Discuss Next steps \n​8:30 pm: Adjourn \n(CAG Members: Zoom info will be provided by Doug Sarno via email.)
URL:https://gowanuscag.org/index.php/event/gowanus-canal-community-advisory-group-general-meeting-42/
LOCATION:Zoom Conference\, NY\, United States
CATEGORIES:CAG General Meeting
ORGANIZER;CN="Doug%20Sarno":MAILTO:doug@forumfg.com
END:VEVENT
END:VCALENDAR