BEGIN:VCALENDAR
VERSION:2.0
PRODID:-//Gowanus Canal Community Advisory Group - ECPv5.16.4//NONSGML v1.0//EN
CALSCALE:GREGORIAN
METHOD:PUBLISH
X-WR-CALNAME:Gowanus Canal Community Advisory Group
X-ORIGINAL-URL:https://gowanuscag.org
X-WR-CALDESC:Events for Gowanus Canal Community Advisory Group
BEGIN:VTIMEZONE
TZID:America/New_York
BEGIN:DAYLIGHT
TZOFFSETFROM:-0500
TZOFFSETTO:-0400
TZNAME:EDT
DTSTART:20260308T070000
END:DAYLIGHT
BEGIN:STANDARD
TZOFFSETFROM:-0400
TZOFFSETTO:-0500
TZNAME:EST
DTSTART:20261101T060000
END:STANDARD
END:VTIMEZONE
BEGIN:VEVENT
DTSTART;TZID=America/New_York:20260105T180000
DTEND;TZID=America/New_York:20260105T190000
DTSTAMP:20260422T055030
CREATED:20251202T022346Z
LAST-MODIFIED:20251229T232239Z
UID:15419-1767636000-1767639600@gowanuscag.org
SUMMARY:Gowanus Canal CAG Archaeology & Historic Preservation Committee Meeting
DESCRIPTION:The Gowanus Canal Community Advisory Group’s Archaeology and Historic Preservation Committee will hold its first monthly meeting of the new year on Monday\, January 5\, 2026 from 6:00 p.m. to 7:00 p.m.\, via Zoom video conference. \nYou can join the Zoom meeting here: https://us06web.zoom.us/j/9808972869?omn=85029255507 \nMeeting ID: 980 897 2869 \nWe’ll post the agenda closer to the date of the meeting – please check back here. \nAll Gowanus CAG meetings are open to the public\, unless specifically noted otherwise.
URL:https://gowanuscag.org/index.php/event/gowanus-canal-cag-archaeology-historic-preservation-committee-meeting-47/
LOCATION:Zoom Conference\, NY\, United States
CATEGORIES:CAG Committee Meeting
ORGANIZER;CN="Joan%20Salome-Rodriguez":MAILTO:jblue406@aol.com
END:VEVENT
BEGIN:VEVENT
DTSTART;TZID=America/New_York:20260105T190000
DTEND;TZID=America/New_York:20260105T200000
DTSTAMP:20260422T055030
CREATED:20251202T033037Z
LAST-MODIFIED:20251229T232353Z
UID:15421-1767639600-1767643200@gowanuscag.org
SUMMARY:Gowanus Canal CAG Water Quality & Technical Committee Meeting
DESCRIPTION:The Gowanus Canal Community Advisory Group’s Water Quality/Technical Committee will hold its first monthly meeting of the new year on Monday\, January 5\, 2026 from 7:00 p.m. to 8:00 p.m.\, via Zoom video conference. \nYou can join the Zoom meeting here: https://us06web.zoom.us/j/87196633276 \nMeeting ID: 871 9663 3276 \nWe’ll post the agenda closer to the date of the meeting – please check back here. \nAll Gowanus CAG meetings are open to the public\, unless specifically noted otherwise.
URL:https://gowanuscag.org/index.php/event/gowanus-canal-cag-water-quality-technical-committee-meeting-69/
LOCATION:Zoom Conference\, NY\, United States
CATEGORIES:CAG Committee Meeting
ORGANIZER;CN="Joan%20Salome-Rodriguez":MAILTO:jblue406@aol.com
END:VEVENT
END:VCALENDAR