BEGIN:VCALENDAR
VERSION:2.0
PRODID:-//Gowanus Canal Community Advisory Group - ECPv5.16.4//NONSGML v1.0//EN
CALSCALE:GREGORIAN
METHOD:PUBLISH
X-WR-CALNAME:Gowanus Canal Community Advisory Group
X-ORIGINAL-URL:https://gowanuscag.org
X-WR-CALDESC:Events for Gowanus Canal Community Advisory Group
BEGIN:VTIMEZONE
TZID:America/New_York
BEGIN:DAYLIGHT
TZOFFSETFROM:-0500
TZOFFSETTO:-0400
TZNAME:EDT
DTSTART:20260308T070000
END:DAYLIGHT
BEGIN:STANDARD
TZOFFSETFROM:-0400
TZOFFSETTO:-0500
TZNAME:EST
DTSTART:20261101T060000
END:STANDARD
END:VTIMEZONE
BEGIN:VEVENT
DTSTART;TZID=America/New_York:20260406T180000
DTEND;TZID=America/New_York:20260406T190000
DTSTAMP:20260423T055157
CREATED:20260107T031537Z
LAST-MODIFIED:20260404T200201Z
UID:15635-1775498400-1775502000@gowanuscag.org
SUMMARY:Gowanus Canal CAG Archaeology & Historic Preservation Committee Meeting
DESCRIPTION:The Gowanus Canal Community Advisory Group’s Archaeology and Historic Preservation Committee will hold its regular monthly meeting on Monday\, April 6th\, 2026 from 6:00 p.m. to 7:00 p.m.\, via Zoom video conference. \nYou can join the Zoom meeting here: https://us04web.zoom.us/j/73340569454?pwd=xBrXTF5UzTDl4U0aOJVHlSwyZQRHu6.1 \nMeeting ID: 733 4056 9454\nPasscode: fsKje5 \nAgenda \n1. Check status of the Storyboard with GRT. Chronical Heritage is working on setting up an account with a platform for activity.  No certain date yet.  Arts GIS is a multi-media platform that allows photos\, video\, text and audio and the Story Map is the Hx of the Gowanus Canal.  Expedite\, please. \nGetting our stuff out there \n2. Share materials with committee to send first tranche to Johnny & Emily (Arts Gowanus) for the Walkabout Tour. \n3. Set up email of photos we would like to post to Johnny & Emily. \n4. How the WalkAbout works – There will be a QR code there that folks can use that takes one to a website with a map the viewer uses to find their current location and see what was there before the re-zone. Will invite Johnny & Emily to an upcoming meeting. \nhttps://gowanusimprovementdistrict.org/get-involved is where the Walkabout link lives.  The actual Walkabout link is here: \nhttps://storymaps.arcgis.com/stories/c878d7e5ed124f27942a436244695ebb \nJason created an excel document that compares what materials already exist in various walking tours.  See it attached to the email with this Agenda.  It gives us a good starting point to decide on materials. \n5. Now that Spring is coming\, set time to meet with Andrea at GCC and Celeste at Dredgers to do possible displays. Work with Outreach to make these into events.   jqjr@quadrozzi.com – dug up Quadrozzi’s contact info so we can plan a field trip once the snow is gone. \n6. New semester so outreach to Brooklyn College Museum Studies Program and to Pratt’s archeology team is timely now to see if there are any opportunities there. https://www.brooklyn.edu/bc-news/curating-excellence/.  If we are going to set up exhibits they may be able to help.  bbingham@pratt.edu\, \n7. Keep an eye on the Union St Library on Clinton Street to see when it opens (not yet). Take a walk up to the substitute library – who would be in charge of anything displayed there? \n8. At some point we should all\, as committees invite the new Region 2 Administrator\, Ted Weiss\, to a General CAG meeting. \nThese items from last year’s February meeting are out there to keep in mind but were not discussed.  \n9. Explore grants – (can this work with Sasha’s work?) \n10. Explore funding possibilities (Can our City Council member fund a space like the Coignet Building?) \n11. Keep thinking about spaces for exhibits (temporary or permanent) – Brooklyn Public Library? \n12. Approach Dept of Cultural Affairs and/or Dept of Arts \n13. We have good intellectual control because we have all the history of the objects that have been retrieved. \n14. Work on Provenance\, ownership. \n15. Safe storage (fundraiser?). Some storage conditions currently are good\, others need work. \n16. We need to have a way to ensure physical security of the objects both on exhibit and when not on exhibit (this combines storage issues with fundraising). \n17. Digital is easy and there is a market for that. Mary wishes there were more history of the Canal out there but we do have Joseph who is THE historian for Gowanus’ long and important history. \nAll Gowanus CAG meetings are open to the public\, unless specifically noted otherwise.
URL:https://gowanuscag.org/index.php/event/gowanus-canal-cag-archaeology-historic-preservation-committee-meeting-50/
LOCATION:Zoom Conference\, NY\, United States
CATEGORIES:CAG Committee Meeting
ORGANIZER;CN="Joan%20Salome-Rodriguez":MAILTO:jblue406@aol.com
END:VEVENT
BEGIN:VEVENT
DTSTART;TZID=America/New_York:20260406T190000
DTEND;TZID=America/New_York:20260406T200000
DTSTAMP:20260423T055157
CREATED:20260107T032013Z
LAST-MODIFIED:20260403T231016Z
UID:15641-1775502000-1775505600@gowanuscag.org
SUMMARY:Gowanus Canal CAG Water Quality & Technical Committee Meeting
DESCRIPTION:The Gowanus Canal Community Advisory Group’s Water Quality/Technical Committee will hold its regular monthly meeting on Monday\, April 6th\, 2026 from 7:00 p.m. to 8:00 p.m.\, via Zoom video conference. \nYou can join the Zoom meeting here: https://rutgers.zoom.us/j/9639904695?pwd=GcUgWW7PEjxxkB0gjQYCWYesko5rEz.1 \nMeeting ID: 963 990 4695\nPasscode: 479355 \nAgenda \nSewershed \nHaving gone over our last two agendas\, it seems that we need to draft an inquiry to DEP and an invite to get answers to many of the questions we have.  Things we should seek: \n\na presentation on the LTCP that was created in 2015. Has there been an update?  Does it take into consideration the LIRR development area?\nSewershed in Gowanus. Issues related to the Atlantic Yards Project and the BMT project.  Can our infrastructure take all that?  \n\nAddressing Sewer Backups – Bond-Lorraine Sewer at Public Place.  DEP should report to us on the status of that project since development is likely to damage it further.  When will the City turn to Gowanus?  Drisana C. Hughes is the Brooklyn Borough Commissioner for the New York City Department of Environmental Protection (DEP)\, appointed in January 2025. She serves as the chief liaison for community members\, stakeholders\, and elected officials in Brooklyn\, focusing on infrastructure projects\, flooding issues\, and community concerns. \n\nCSO tanks and Weir outfalls.\nWhat steps were required by DEP (DOB?) so that development projects prevent or offset additional sewer loadings? engineering controls to ensure that hazardous substances and solids are not discharged to the canal? WHAT ENTITY IS POLICING THIS?  HOW?  NOW?\nNow that some buildings are occupied\, is the City currently monitoring effluent? Where are these reports and what do they show?\nCan the Red Hook and Owl’s Head Wastewater Control Plants handle the additional loads both in dry and wet weather events?\nWhat will the City do if the tanks are not enough to maintain the current SC status of the Canal?\n\nHousekeeping \n\nLegal outfalls – which are street ends\, which are buildings\, which are the CSO tanks\, what are the WEIRS?\nPowerHouse walkway at TB1.\nWe will follow on the mounding studies once EPA presents on them again. Issue is forward looking – climate change.\n\nFollow-ups on Action Items \n\nAny acknowledgement from Fagel\, Waldron or Smith to our resolution re: DO levels?\nWhat is the objective for the level of clean water once the canal is cleaned?\n\nImplementation of the remedy will improve the surface water quality of the Canal by controlling and substantially eliminating sheens and preventing contact of the surface water with the contaminated sediment.  \nWhat about CSO’s?  Followed with Corinne. \nNOTE:  We may have wanted to direct this to EPA initially and probably still should but we should send to DEC and definitely DEP as well since Lisa Garcia\, the former head of EPA’s Region 2\, is now the Commissioner at DEP (will she recuse from all things Gowanus?).  We know the current objective per DEC is SC but the question remains – what about the CSO’s?  We know that even with the tanks\, there will still be CSO’s in the water.  What will happen to those?  Will the City have to re-dredge?   \nWon’t City re-dredging potentially damage the cap? General CAG Q.  MARK’s Q.  DEC\, DOH\, DOHMH\, DEP \nCan there be kits for residents/businesses to check basement flood waters for contamination?  Can there be monitors along the Canal such as were utilized in France along the Seine for the Olympics?  Followed with Mark Yarish whether he had an opportunity to draft an inquiry on these two related questions. \nPost-Remedy Issues \n* What is EPA’s demand for responsible parties to maintain an operation and maintenance plan (OMP) for the Gowanus Canal Clean-up strategy? Who will ensure that the OMP is done going forward? Will EPA continue to check that the water quality remains good and that the cap is intact? Does EPA have an OMP Plan? Where is it?  Katia followed on these two questions – any answer? \nHydrology \nCurrent hydraulic conditions\, including groundwater elevations and flow direction. This study by DEC was scheduled for completion in late 2024. Per Aaron DEC is working on it.  Joan\, Steve\, Emily \nTurning Basins \n\nHow much water are we losing?\n\n0.81 acres in RTA2 [that’s almost a whole city block!] and 0.12 acres in RTA1. The area that will be recovered in turning basin 1 and under the 3rd Ave bridge is about 0.51 acres. \nDue to the dredging of soft sediment in the canal\, we will be increasing the water depth along the length of the canal\, thus INCREASING the holding capacity of the canal. The volume increase in RTA1 and RTA2 excluding the area under the 3rd Ave bridge is estimated to be about 118\,000 CY or the capacity of 36 Olympic size swimming pools. \n\nHow will what we lose here be returned to us at Turning Basins 1 & 11 (near Lowe’s in RTA 3)? Does not look that way.\n\nIn coordination with EPA\, the Trust is currently designing a wetland in the former First Street turning basin to provide ecological value and recreational benefits to the community and to offset water area lost by bulkhead encroachment throughout the project area. Additional encroachment mitigation will occur beneath the Third Avenue bridge and slightly into the Fifth Street Turning Basin\, pursuant to plans which are still being developed.  At Turning Basin 11\, encroachment from the bulkhead construction is anticipated due to structural limitations from the former Pathmark building. \nFollow up question:  \n*It should be noted that the First and Fourth Street Basin were illegally landfilled with EPA / NYSDEC failing in their protective duties…  so technically up to 3.5 acres of habitat restoration would need\, legally\, to be compensated for.  \nEPA is still reviewing this and we will bring it to the CAG when we have a further response. We have no further response at this point. – ERICA – craft a question to follow up.  ERICA wrote – “As water was not fully restored in Turning Basin 1 with the sloped design\, we would like to confirm that future designs for the other turning basins and other areas of the Canal will prioritize no further loss of width of the Canal and turning basins?”  \nAll Gowanus CAG meetings are open to the public\, unless specifically noted otherwise.
URL:https://gowanuscag.org/index.php/event/gowanus-canal-cag-water-quality-technical-committee-meeting-72/
LOCATION:Zoom Conference\, NY\, United States
CATEGORIES:CAG Committee Meeting
ORGANIZER;CN="Joan%20Salome-Rodriguez":MAILTO:jblue406@aol.com
END:VEVENT
END:VCALENDAR