BEGIN:VCALENDAR
VERSION:2.0
PRODID:-//Gowanus Canal Community Advisory Group - ECPv5.16.4//NONSGML v1.0//EN
CALSCALE:GREGORIAN
METHOD:PUBLISH
X-WR-CALNAME:Gowanus Canal Community Advisory Group
X-ORIGINAL-URL:https://gowanuscag.org
X-WR-CALDESC:Events for Gowanus Canal Community Advisory Group
BEGIN:VTIMEZONE
TZID:America/New_York
BEGIN:DAYLIGHT
TZOFFSETFROM:-0500
TZOFFSETTO:-0400
TZNAME:EDT
DTSTART:20260308T070000
END:DAYLIGHT
BEGIN:STANDARD
TZOFFSETFROM:-0400
TZOFFSETTO:-0500
TZNAME:EST
DTSTART:20261101T060000
END:STANDARD
END:VTIMEZONE
BEGIN:VEVENT
DTSTART;TZID=America/New_York:20260407T183000
DTEND;TZID=America/New_York:20260407T193000
DTSTAMP:20260422T074357
CREATED:20260107T025536Z
LAST-MODIFIED:20260407T035335Z
UID:15614-1775586600-1775590200@gowanuscag.org
SUMMARY:Gowanus Canal CAG Land Use Committee Meeting
DESCRIPTION:The Gowanus Canal Community Advisory Group’s Land Use Committee will hold its regular monthly meeting on Tuesday\, April 7th\, from 6:30 p.m. to 7:30 p.m.\, via Zoom. \nYou can join the meeting here: https://us02web.zoom.us/j/88311499272?pwd=eGNvTDRIOEhLcWYrM1pwK3lNOS84dz09 \nMeeting ID: 883 1149 9272\nPasscode: 355163 \nAgenda: \n1) Update: DOH’s response to the Committee’s letter regarding the Luquer & Court Street TCE Trackdown Study. \nI would like to thank Scarlett for responding to the Committee’s questions. Please see the attached response. \n2) Email exchange with Mark Yarish. \nMark informed me that he will not be able to attend Tuesday’s meeting and suggested that I share an email exchange we had regarding National Grid’s lawsuit. Please see the attached email exchange. \n3) Review draft Resolution regarding the Owls Head CSO Tank site. \nWhen you have a moment\, please review the attached draft that Jason has kindly spent a significant amount of time drafting and be prepared to discuss at our meeting. \n4) Brownstoner article regarding the “new” Salt Lot & Owls Head CSO Tank site. \nhttps://www.brownstoner.com/development/gowanus-canal-sanitation-facility-dep-cso-tanks/?utm_source=sailthru&utm_medium=email&utm_campaign=brownstoner-pm&utm_term=Brownstoner%20Daily%20Newsletter \nAll Gowanus CAG meetings are open to the public unless indicated otherwise.
URL:https://gowanuscag.org/index.php/event/gowanus-canal-cag-land-use-committee-meeting-70/
LOCATION:Zoom Conference\, NY\, United States
CATEGORIES:CAG Committee Meeting
ORGANIZER;CN="Steve%20Marcus":MAILTO:stevemarcus7@gmail.com
END:VEVENT
END:VCALENDAR