BEGIN:VCALENDAR
VERSION:2.0
PRODID:-//Gowanus Canal Community Advisory Group - ECPv5.16.4//NONSGML v1.0//EN
CALSCALE:GREGORIAN
METHOD:PUBLISH
X-WR-CALNAME:Gowanus Canal Community Advisory Group
X-ORIGINAL-URL:https://gowanuscag.org
X-WR-CALDESC:Events for Gowanus Canal Community Advisory Group
BEGIN:VTIMEZONE
TZID:America/New_York
BEGIN:DAYLIGHT
TZOFFSETFROM:-0500
TZOFFSETTO:-0400
TZNAME:EDT
DTSTART:20260308T070000
END:DAYLIGHT
BEGIN:STANDARD
TZOFFSETFROM:-0400
TZOFFSETTO:-0500
TZNAME:EST
DTSTART:20261101T060000
END:STANDARD
END:VTIMEZONE
BEGIN:VEVENT
DTSTART;TZID=America/New_York:20260413T183000
DTEND;TZID=America/New_York:20260413T193000
DTSTAMP:20260423T055236
CREATED:20260225T152427Z
LAST-MODIFIED:20260412T171749Z
UID:15895-1776105000-1776108600@gowanuscag.org
SUMMARY:April 2026 Outreach Committee Meeting
DESCRIPTION:The monthly Outreach Committee Meeting is scheduled for April 13\, 2026. This is a virtual meeting\, held on Google Meet. Joining information is below. \nAgenda \n• April Thomas Greene Park Event & Outreach opportunity (Alexandra – 10 min) \n• Event Posting rubric – are we good with it? Next steps? (Celeste – 15 min) \n• Where are we with the website? Next steps? (Erica & Celeste – 10 min) \n• Outreach Committee’s priorities over the past 12 or so months (Celeste – 10 min) \n• Outreach Committee’s Mission Statement \n• Future agenda items (Jason – whatever time is left) \nOutreach Committee Meeting\nMonday\, April 13 · 6:30 – 7:30pm\nTime zone: America/New_York\nGoogle Meet joining info\nVideo call link: https://meet.google.com/suj-rmby-zps\nOr dial: ‪(US) +1 929-276-0831‬ PIN: ‪608 998 767‬#\nMore phone numbers: https://tel.meet/suj-rmby-zps?pin=1308142126492
URL:https://gowanuscag.org/index.php/event/april-2026-outreach-committee-meeting/
LOCATION:Google Meet
CATEGORIES:CAG Committee Meeting
ORGANIZER;CN="Outreach%20Committee":MAILTO:gowanuscag@gmail.com
END:VEVENT
END:VCALENDAR