BEGIN:VCALENDAR
VERSION:2.0
PRODID:-//Gowanus Canal Community Advisory Group - ECPv5.16.4//NONSGML v1.0//EN
CALSCALE:GREGORIAN
METHOD:PUBLISH
X-WR-CALNAME:Gowanus Canal Community Advisory Group
X-ORIGINAL-URL:https://gowanuscag.org
X-WR-CALDESC:Events for Gowanus Canal Community Advisory Group
BEGIN:VTIMEZONE
TZID:America/New_York
BEGIN:DAYLIGHT
TZOFFSETFROM:-0500
TZOFFSETTO:-0400
TZNAME:EDT
DTSTART:20260308T070000
END:DAYLIGHT
BEGIN:STANDARD
TZOFFSETFROM:-0400
TZOFFSETTO:-0500
TZNAME:EST
DTSTART:20261101T060000
END:STANDARD
END:VTIMEZONE
BEGIN:VEVENT
DTSTART;TZID=America/New_York:20260914T183000
DTEND;TZID=America/New_York:20260914T193000
DTSTAMP:20260425T085942
CREATED:20260423T192423Z
LAST-MODIFIED:20260423T201410Z
UID:16164-1789410600-1789414200@gowanuscag.org
SUMMARY:Gowanus Canal CAG Outreach Committee Meeting
DESCRIPTION:The Gowanus Canal Community Advisory Group’s Outreach Committee will hold its regular monthly meeting on Monday\, September 14\, from 6:30 p.m. to 7:30 p.m.\, via Google Meet. \nWe’ll post an agenda closer to the meeting date – please check back here. \nJoin via Google Meet\nVideo call link: https://meet.google.com/suj-rmby-zps\nOr dial: ‪(US) +1 929-276-0831‬ PIN: ‪608 998 767‬#\nMore phone numbers: https://tel.meet/suj-rmby-zps?pin=1308142126492
URL:https://gowanuscag.org/index.php/event/gowanus-canal-cag-outreach-committee-meeting-39/
LOCATION:Google Meet
CATEGORIES:CAG Committee Meeting
ORGANIZER;CN="Jason%20Schwartzman":MAILTO:jischwartzman@gmail.com
END:VEVENT
END:VCALENDAR