BEGIN:VCALENDAR
VERSION:2.0
PRODID:-//Gowanus Canal Community Advisory Group - ECPv5.16.4//NONSGML v1.0//EN
CALSCALE:GREGORIAN
METHOD:PUBLISH
X-WR-CALNAME:Gowanus Canal Community Advisory Group
X-ORIGINAL-URL:https://gowanuscag.org
X-WR-CALDESC:Events for Gowanus Canal Community Advisory Group
BEGIN:VTIMEZONE
TZID:America/New_York
BEGIN:DAYLIGHT
TZOFFSETFROM:-0500
TZOFFSETTO:-0400
TZNAME:EDT
DTSTART:20240310T070000
END:DAYLIGHT
BEGIN:STANDARD
TZOFFSETFROM:-0400
TZOFFSETTO:-0500
TZNAME:EST
DTSTART:20241103T060000
END:STANDARD
END:VTIMEZONE
BEGIN:VEVENT
DTSTART;TZID=America/New_York:20241022T183000
DTEND;TZID=America/New_York:20241022T203000
DTSTAMP:20260420T205032
CREATED:20240708T164405Z
LAST-MODIFIED:20241022T161927Z
UID:12073-1729621800-1729629000@gowanuscag.org
SUMMARY:Gowanus Canal Community Advisory Group General Meeting
DESCRIPTION:Please join us for our October 2024 General Meeting\, on Tuesday\, October 22\, from 6:30 p.m. to 8:30 p.m.\, conducted via Zoom video conference. \nIn order to join the meeting\, you must pre-register\, here: \nhttps://us02web.zoom.us/meeting/register/tZEucu2hqz4vGNaeMz7fklnM5j8ev3-M2wvC \nDRAFT AGENDA (all times are approximate) \n6:30 – 6:45 p.m.: Welcome and CAG Member Introductions \n6:45 – 7:15 p.m.: EPA Updates and CAG Q&A \n7:15 – 7:30 p.m.: Public Comment/Questions \n7:30 – 7:45 p.m.: CAG Business and Committee Updates \n\nCAG Working Group\nAdministrative Committee\nArchaeology and Historic Preservation Committee\nLand Use Committee\nOutreach Committee\nWater Quality/Technical Committee\n\n7:45 – 8:30 p.m.: Discussion of proposed submission of CAG comments for the Triennial Review of Water Quality Standards \n8:30 p.m.: Adjourn \nGuests are always welcome to comment and ask questions using the chat function. \nAll Gowanus CAG meetings are open to the public\, unless specifically noted otherwise.
URL:https://gowanuscag.org/index.php/event/gowanus-canal-community-advisory-group-general-meeting-49/
LOCATION:Zoom Conference\, NY\, United States
CATEGORIES:CAG General Meeting
ORGANIZER;CN="Natalie%20Loney":MAILTO:loney.natalie@epa.gov
END:VEVENT
END:VCALENDAR