BEGIN:VCALENDAR
VERSION:2.0
PRODID:-//Gowanus Canal Community Advisory Group - ECPv5.16.4//NONSGML v1.0//EN
CALSCALE:GREGORIAN
METHOD:PUBLISH
X-WR-CALNAME:Gowanus Canal Community Advisory Group
X-ORIGINAL-URL:https://gowanuscag.org
X-WR-CALDESC:Events for Gowanus Canal Community Advisory Group
BEGIN:VTIMEZONE
TZID:America/New_York
BEGIN:DAYLIGHT
TZOFFSETFROM:-0500
TZOFFSETTO:-0400
TZNAME:EDT
DTSTART:20250309T070000
END:DAYLIGHT
BEGIN:STANDARD
TZOFFSETFROM:-0400
TZOFFSETTO:-0500
TZNAME:EST
DTSTART:20251102T060000
END:STANDARD
END:VTIMEZONE
BEGIN:VEVENT
DTSTART;TZID=America/New_York:20250225T183000
DTEND;TZID=America/New_York:20250225T203000
DTSTAMP:20260420T121202
CREATED:20250131T182250Z
LAST-MODIFIED:20250131T182250Z
UID:13411-1740508200-1740515400@gowanuscag.org
SUMMARY:Gowanus Canal Community Advisory Group General Meeting
DESCRIPTION:Please join us for our February 2025 General Meeting\, on Tuesday\, February 25\, from 6:30 p.m. to 8:30 p.m.\, conducted via Zoom video conference. \nWe will publish a Zoom registration link and draft agenda here approximately one week prior to the meeting. Please check back. \nGuests are always welcome to comment and ask questions using the chat function. \nAll Gowanus CAG meetings are open to the public\, unless specifically noted otherwise.
URL:https://gowanuscag.org/index.php/event/gowanus-canal-community-advisory-group-general-meeting-52/
LOCATION:Zoom Conference\, NY\, United States
CATEGORIES:CAG General Meeting
ORGANIZER;CN="Doug%20Sarno":MAILTO:doug@forumfg.com
END:VEVENT
END:VCALENDAR