BEGIN:VCALENDAR
VERSION:2.0
PRODID:-//Gowanus Canal Community Advisory Group - ECPv5.16.4//NONSGML v1.0//EN
CALSCALE:GREGORIAN
METHOD:PUBLISH
X-WR-CALNAME:Gowanus Canal Community Advisory Group
X-ORIGINAL-URL:https://gowanuscag.org
X-WR-CALDESC:Events for Gowanus Canal Community Advisory Group
BEGIN:VTIMEZONE
TZID:America/New_York
BEGIN:DAYLIGHT
TZOFFSETFROM:-0500
TZOFFSETTO:-0400
TZNAME:EDT
DTSTART:20260308T070000
END:DAYLIGHT
BEGIN:STANDARD
TZOFFSETFROM:-0400
TZOFFSETTO:-0500
TZNAME:EST
DTSTART:20261101T060000
END:STANDARD
END:VTIMEZONE
BEGIN:VEVENT
DTSTART;TZID=America/New_York:20260224T183000
DTEND;TZID=America/New_York:20260224T203000
DTSTAMP:20260419T173332
CREATED:20260114T044625Z
LAST-MODIFIED:20260222T221530Z
UID:15684-1771957800-1771965000@gowanuscag.org
SUMMARY:Gowanus Canal Community Advisory Group General Meeting
DESCRIPTION:Please join us for our February 2026 General Meeting\, on Tuesday\, February 24\, from 6:30 p.m. to 8:30 p.m.\, conducted via Zoom video conference. \n\n\n \nJoin the meeting here: https://us02web.zoom.us/j/81431345410?pwd=drb4lhEv7H8OQJ4xQ7j60aZuv3tzci.1 \n\n\n \nMeeting ID: 814 3134 5410Passcode: 052446 \n\n\n \nDRAFT AGENDA (all times are approximate) \n\n\n \n6:30 – 6:40 p.m.: Welcome and CAG Member Introductions \n\n\n \n6:40 – 7:15 p.m.: EPA Updates and CAG Q&A / Public Comment and Q&A as time allows \n\n\n \n7:15 – 8:15 p.m.: CAG Business and Committee Updates \n\n\n \n\nArchaeology and Historic Preservation Committee\nFacilitation Committee\nOutreach Committee\nWater Quality/Technical Committee\nAdministrative Committee\nLand Use Committee – Resolution re: former Citizens MGP site\n\n\n\n \n8:15 p.m.: New Member Interviews (CAG Members only) \n\n\n \n8:30 p.m.: Adjourn \n\n\n \nGuests are always welcome to comment and ask questions using the chat function. \n\n\n \nAll Gowanus CAG meetings are open to the public\, unless specifically noted otherwise.
URL:https://gowanuscag.org/index.php/event/gowanus-canal-community-advisory-group-general-meeting-62/
LOCATION:Zoom Conference\, NY\, United States
CATEGORIES:CAG General Meeting
ORGANIZER;CN="Natalie%20Loney":MAILTO:loney.natalie@epa.gov
END:VEVENT
END:VCALENDAR