BEGIN:VCALENDAR
VERSION:2.0
PRODID:-//Gowanus Canal Community Advisory Group - ECPv5.16.4//NONSGML v1.0//EN
CALSCALE:GREGORIAN
METHOD:PUBLISH
X-WR-CALNAME:Gowanus Canal Community Advisory Group
X-ORIGINAL-URL:https://gowanuscag.org
X-WR-CALDESC:Events for Gowanus Canal Community Advisory Group
BEGIN:VTIMEZONE
TZID:America/New_York
BEGIN:DAYLIGHT
TZOFFSETFROM:-0500
TZOFFSETTO:-0400
TZNAME:EDT
DTSTART:20250309T070000
END:DAYLIGHT
BEGIN:STANDARD
TZOFFSETFROM:-0400
TZOFFSETTO:-0500
TZNAME:EST
DTSTART:20251102T060000
END:STANDARD
END:VTIMEZONE
BEGIN:VEVENT
DTSTART;TZID=America/New_York:20250210T180000
DTEND;TZID=America/New_York:20250210T200000
DTSTAMP:20260424T013103
CREATED:20250206T193309Z
LAST-MODIFIED:20250206T193424Z
UID:13482-1739210400-1739217600@gowanuscag.org
SUMMARY:Community Event: What's in the Air? Ask an EPA Expert
DESCRIPTION:Get a behind-the-scenes peek inside the “science lab on a bus” that’s helping keep an eye on what’s in the air in Gowanus! EPA scientists\, educators\, and other community members will be on hand to answer questions about the ongoing cleanup of the Gowanus Canal\, how the EPA is helping monitor the neighborhood for air quality issues during construction\, and what you can do to stay safe and informed.\n\n \n\nDEP is undertaking the next round of the CSO tank excavation with more intensive air monitoring from the TAGA bus. This is an opportunity for the community to actually get on the bus\, talk to scientists\, ask questions and learn about how the agencies are monitoring remediation to protect human health.\n\n\n\nThe bus will be located at BUTLER & NEVINS ST\, and CAG members will be set up inside Evalyn’s Tap House (236 Butler) from 6-8pm to share more information about how this monitoring relates to the many other neighborhood processes.
URL:https://gowanuscag.org/index.php/event/community-event-whats-in-the-air-ask-an-epa-expert/
LOCATION:236 Butler St.\, Brooklyn\, NY\, 236 Butler St.\, Brooklyn\, NY\, 11217\, United States
CATEGORIES:Community Event
ATTACH;FMTTYPE=image/jpeg:https://gowanuscag.org/wp-content/uploads/2025/02/Gowanus-Canal-Community-Advisory-Group-Instagram-Post-45-Facebook-Post.jpg
ORGANIZER;CN="Outreach%20Committee":MAILTO:gowanuscag@gmail.com
END:VEVENT
END:VCALENDAR